BEGIN:VCALENDAR
VERSION:2.0
PRODID:-//CCRD//1.0//FR
CALSCALE:GREGORIAN
BEGIN:VTIMEZONE
TZID:Europe/Zurich
BEGIN:DAYLIGHT
TZOFFSETFROM:+0100
RRULE:FREQ=YEARLY;BYMONTH=3;BYDAY=-1SU
DTSTART:19810329T020000
TZNAME:UTC+2
TZOFFSETTO:+0200
END:DAYLIGHT
BEGIN:STANDARD
TZOFFSETFROM:+0200
RRULE:FREQ=YEARLY;BYMONTH=10;BYDAY=-1SU
DTSTART:19961027T030000
TZNAME:UTC+1
TZOFFSETTO:+0100
END:STANDARD
END:VTIMEZONE
BEGIN:VEVENT
UID:M9G5ZHGaLXsAOTr74zKnG8wHFtvtGpMZ8Gjra4vg.culturoscope.ch
DTSTART;TZID=Europe/Zurich:20221118T170000
DTEND;TZID=Europe/Zurich:20221118T210000
TRANSP:OPAQUE
X-APPLE-TRAVEL-ADVISORY-BEHAVIOR:AUTOMATIC
SUMMARY:Pour les 20 ans de la galerie YD
LOCATION:Galerie YD Rue Fleury 6 2000 Neuchâtel
DTSTAMP:20260422T222028Z
SEQUENCE:0
END:VEVENT
END:VCALENDAR
