BEGIN:VCALENDAR
VERSION:2.0
PRODID:-//CCRD//1.0//FR
CALSCALE:GREGORIAN
BEGIN:VTIMEZONE
TZID:Europe/Zurich
BEGIN:DAYLIGHT
TZOFFSETFROM:+0100
RRULE:FREQ=YEARLY;BYMONTH=3;BYDAY=-1SU
DTSTART:19810329T020000
TZNAME:UTC+2
TZOFFSETTO:+0200
END:DAYLIGHT
BEGIN:STANDARD
TZOFFSETFROM:+0200
RRULE:FREQ=YEARLY;BYMONTH=10;BYDAY=-1SU
DTSTART:19961027T030000
TZNAME:UTC+1
TZOFFSETTO:+0100
END:STANDARD
END:VTIMEZONE
BEGIN:VEVENT
UID:VijZYDB5Eb9IqWlJK9IE2gZnTL8QvK2OQ1WUo5C7.culturoscope.ch
DTSTART;TZID=Europe/Zurich:20220915T190000
DTEND;TZID=Europe/Zurich:20221025T220000
TRANSP:OPAQUE
X-APPLE-TRAVEL-ADVISORY-BEHAVIOR:AUTOMATIC
SUMMARY:Le Jardin de la mémoire d’Armand Schulthess
LOCATION:Club 44 Rue de la Serre 64 2300 La Chaux-de-Fonds
DTSTAMP:20260420T111414Z
SEQUENCE:0
END:VEVENT
END:VCALENDAR
