BEGIN:VCALENDAR
VERSION:2.0
PRODID:-//CCRD//1.0//FR
CALSCALE:GREGORIAN
BEGIN:VTIMEZONE
TZID:Europe/Zurich
BEGIN:DAYLIGHT
TZOFFSETFROM:+0100
RRULE:FREQ=YEARLY;BYMONTH=3;BYDAY=-1SU
DTSTART:19810329T020000
TZNAME:UTC+2
TZOFFSETTO:+0200
END:DAYLIGHT
BEGIN:STANDARD
TZOFFSETFROM:+0200
RRULE:FREQ=YEARLY;BYMONTH=10;BYDAY=-1SU
DTSTART:19961027T030000
TZNAME:UTC+1
TZOFFSETTO:+0100
END:STANDARD
END:VTIMEZONE
BEGIN:VEVENT
UID:JnArMMa3ZcIcqYDKCl1zaXZpo75nJE5hFB0CMKR7.culturoscope.ch
DTSTART;TZID=Europe/Zurich:20220828T110000
DTEND;TZID=Europe/Zurich:20221002T180000
TRANSP:OPAQUE
X-APPLE-TRAVEL-ADVISORY-BEHAVIOR:AUTOMATIC
SUMMARY:« Marbre, Alpes et roches » de Yves André
LOCATION:Ferme du Grand Cachot de Vent Le Cachot 28 2405 La Chaux-du-Milieu
DTSTAMP:20260421T155442Z
SEQUENCE:0
END:VEVENT
END:VCALENDAR
