BEGIN:VCALENDAR
VERSION:2.0
PRODID:-//CCRD//1.0//FR
CALSCALE:GREGORIAN
BEGIN:VTIMEZONE
TZID:Europe/Zurich
BEGIN:DAYLIGHT
TZOFFSETFROM:+0100
RRULE:FREQ=YEARLY;BYMONTH=3;BYDAY=-1SU
DTSTART:19810329T020000
TZNAME:UTC+2
TZOFFSETTO:+0200
END:DAYLIGHT
BEGIN:STANDARD
TZOFFSETFROM:+0200
RRULE:FREQ=YEARLY;BYMONTH=10;BYDAY=-1SU
DTSTART:19961027T030000
TZNAME:UTC+1
TZOFFSETTO:+0100
END:STANDARD
END:VTIMEZONE
BEGIN:VEVENT
UID:7L6vtKF0XJqcjxQ2ZGOPfGUDQBSx8bMwkEOCL4h0.culturoscope.ch
DTSTART;TZID=Europe/Zurich:20220716T160000
DTEND;TZID=Europe/Zurich:20220814T200000
TRANSP:OPAQUE
X-APPLE-TRAVEL-ADVISORY-BEHAVIOR:AUTOMATIC
SUMMARY:Yves Carrey et Véronique Werner exposent
LOCATION:leCaveau - Galerie d’art Rue du Quartier 4 2882  St-Ursanne
DTSTAMP:20260424T004755Z
SEQUENCE:0
END:VEVENT
END:VCALENDAR
