BEGIN:VCALENDAR
VERSION:2.0
PRODID:-//CCRD//1.0//FR
CALSCALE:GREGORIAN
BEGIN:VTIMEZONE
TZID:Europe/Zurich
BEGIN:DAYLIGHT
TZOFFSETFROM:+0100
RRULE:FREQ=YEARLY;BYMONTH=3;BYDAY=-1SU
DTSTART:19810329T020000
TZNAME:UTC+2
TZOFFSETTO:+0200
END:DAYLIGHT
BEGIN:STANDARD
TZOFFSETFROM:+0200
RRULE:FREQ=YEARLY;BYMONTH=10;BYDAY=-1SU
DTSTART:19961027T030000
TZNAME:UTC+1
TZOFFSETTO:+0100
END:STANDARD
END:VTIMEZONE
BEGIN:VEVENT
UID:MrKSiuJC6AHU9HPlXb6mKPWdYxPPx7Qtg600oiZC.culturoscope.ch
DTSTART;TZID=Europe/Zurich:20220505T090000
DTEND;TZID=Europe/Zurich:20220515T170000
TRANSP:OPAQUE
X-APPLE-TRAVEL-ADVISORY-BEHAVIOR:AUTOMATIC
SUMMARY:EXPOSITION DE PHOTOGRAPHIES « EAU, MA VILLE »
LOCATION:Péristyle de l’Hôtel de Ville Rue de l’Hôtel de Ville 2 2000 Neuchâtel
DTSTAMP:20260421T135258Z
SEQUENCE:0
END:VEVENT
END:VCALENDAR
