BEGIN:VCALENDAR
VERSION:2.0
PRODID:-//CCRD//1.0//FR
CALSCALE:GREGORIAN
BEGIN:VTIMEZONE
TZID:Europe/Zurich
BEGIN:DAYLIGHT
TZOFFSETFROM:+0100
RRULE:FREQ=YEARLY;BYMONTH=3;BYDAY=-1SU
DTSTART:19810329T020000
TZNAME:UTC+2
TZOFFSETTO:+0200
END:DAYLIGHT
BEGIN:STANDARD
TZOFFSETFROM:+0200
RRULE:FREQ=YEARLY;BYMONTH=10;BYDAY=-1SU
DTSTART:19961027T030000
TZNAME:UTC+1
TZOFFSETTO:+0100
END:STANDARD
END:VTIMEZONE
BEGIN:VEVENT
UID:eHfQDk5Vh6JO1g9r7Sqw7CLRK4HzIDdr6T3AF5hD.culturoscope.ch
DTSTART;TZID=Europe/Zurich:20210926T100000
DTEND;TZID=Europe/Zurich:20220109T170000
TRANSP:OPAQUE
X-APPLE-TRAVEL-ADVISORY-BEHAVIOR:AUTOMATIC
SUMMARY:Christian Lutz. Tropical Gift
LOCATION:Musée des Beaux-Arts de La Chaux-de-Fonds Rue des Musées 33 2300 La Chaux-de-Fonds
DTSTAMP:20260423T183934Z
SEQUENCE:0
END:VEVENT
END:VCALENDAR
