BEGIN:VCALENDAR
VERSION:2.0
PRODID:-//CCRD//1.0//FR
CALSCALE:GREGORIAN
BEGIN:VTIMEZONE
TZID:Europe/Zurich
BEGIN:DAYLIGHT
TZOFFSETFROM:+0100
RRULE:FREQ=YEARLY;BYMONTH=3;BYDAY=-1SU
DTSTART:19810329T020000
TZNAME:UTC+2
TZOFFSETTO:+0200
END:DAYLIGHT
BEGIN:STANDARD
TZOFFSETFROM:+0200
RRULE:FREQ=YEARLY;BYMONTH=10;BYDAY=-1SU
DTSTART:19961027T030000
TZNAME:UTC+1
TZOFFSETTO:+0100
END:STANDARD
END:VTIMEZONE
BEGIN:VEVENT
UID:B54BsflXsgnuGiLkDQRrFwcRSLtiCLOqfpK7oaG1.culturoscope.ch
DTSTART;TZID=Europe/Zurich:20211001T170000
DTEND;TZID=Europe/Zurich:20211031T200000
TRANSP:OPAQUE
X-APPLE-TRAVEL-ADVISORY-BEHAVIOR:AUTOMATIC
SUMMARY:Arty Show Biel/Bienne
LOCATION:Dans les Rues de Bienne voir programme sur le site Rue de la Gare 2502 Bienne
DTSTAMP:20260424T051517Z
SEQUENCE:0
END:VEVENT
END:VCALENDAR
