BEGIN:VCALENDAR
VERSION:2.0
PRODID:-//CCRD//1.0//FR
CALSCALE:GREGORIAN
BEGIN:VTIMEZONE
TZID:Europe/Zurich
BEGIN:DAYLIGHT
TZOFFSETFROM:+0100
RRULE:FREQ=YEARLY;BYMONTH=3;BYDAY=-1SU
DTSTART:19810329T020000
TZNAME:UTC+2
TZOFFSETTO:+0200
END:DAYLIGHT
BEGIN:STANDARD
TZOFFSETFROM:+0200
RRULE:FREQ=YEARLY;BYMONTH=10;BYDAY=-1SU
DTSTART:19961027T030000
TZNAME:UTC+1
TZOFFSETTO:+0100
END:STANDARD
END:VTIMEZONE
BEGIN:VEVENT
UID:VtQR1Dcz86uJGb2rcPZUoHQ0MnjL2NUo0qXm9Noa.culturoscope.ch
DTSTART;TZID=Europe/Zurich:20210426T090000
DTEND;TZID=Europe/Zurich:20210531T173000
TRANSP:OPAQUE
X-APPLE-TRAVEL-ADVISORY-BEHAVIOR:AUTOMATIC
SUMMARY:DIGITAL DOMINATION
LOCATION:Centre Culturel Neuchâtelois Rue du Pommier 9 2000 Neuchâtel
DTSTAMP:20260422T003841Z
SEQUENCE:0
END:VEVENT
END:VCALENDAR
