BEGIN:VCALENDAR
VERSION:2.0
PRODID:-//CCRD//1.0//FR
CALSCALE:GREGORIAN
BEGIN:VTIMEZONE
TZID:Europe/Zurich
BEGIN:DAYLIGHT
TZOFFSETFROM:+0100
RRULE:FREQ=YEARLY;BYMONTH=3;BYDAY=-1SU
DTSTART:19810329T020000
TZNAME:UTC+2
TZOFFSETTO:+0200
END:DAYLIGHT
BEGIN:STANDARD
TZOFFSETFROM:+0200
RRULE:FREQ=YEARLY;BYMONTH=10;BYDAY=-1SU
DTSTART:19961027T030000
TZNAME:UTC+1
TZOFFSETTO:+0100
END:STANDARD
END:VTIMEZONE
BEGIN:VEVENT
UID:GBgc0WQJEpKsSgd7U9lyIQA1LlcXusEGxYF5fGcM.culturoscope.ch
DTSTART;TZID=Europe/Zurich:20210129T120000
DTEND;TZID=Europe/Zurich:20210307T120000
TRANSP:OPAQUE
X-APPLE-TRAVEL-ADVISORY-BEHAVIOR:AUTOMATIC
SUMMARY:FONO & GRÉGOIRE MOREL 
LOCATION:Centre de Culture & de Loisirs   6, Rue du Marché 2610 St-Imier
DTSTAMP:20260425T003038Z
SEQUENCE:0
END:VEVENT
END:VCALENDAR
