BEGIN:VCALENDAR
VERSION:2.0
PRODID:-//CCRD//1.0//FR
CALSCALE:GREGORIAN
BEGIN:VTIMEZONE
TZID:Europe/Zurich
BEGIN:DAYLIGHT
TZOFFSETFROM:+0100
RRULE:FREQ=YEARLY;BYMONTH=3;BYDAY=-1SU
DTSTART:19810329T020000
TZNAME:UTC+2
TZOFFSETTO:+0200
END:DAYLIGHT
BEGIN:STANDARD
TZOFFSETFROM:+0200
RRULE:FREQ=YEARLY;BYMONTH=10;BYDAY=-1SU
DTSTART:19961027T030000
TZNAME:UTC+1
TZOFFSETTO:+0100
END:STANDARD
END:VTIMEZONE
BEGIN:VEVENT
UID:ZhXdzKzDZ21aZsRcUc7ZErkjwUc8kzAOCZ4bI9Ju.culturoscope.ch
DTSTART;TZID=Europe/Zurich:20200813T190000
DTEND;TZID=Europe/Zurich:20200911T120000
TRANSP:OPAQUE
X-APPLE-TRAVEL-ADVISORY-BEHAVIOR:AUTOMATIC
SUMMARY:ArtVISUEL/KUNST Ausstellung /Exposition INTERVALL/E
LOCATION:http://festival.artdialog.ch/fr/programm.html  Buettenbergstr.37 2504 Biel
DTSTAMP:20260419T165038Z
SEQUENCE:0
END:VEVENT
END:VCALENDAR
