BEGIN:VCALENDAR
VERSION:2.0
PRODID:-//CCRD//1.0//FR
CALSCALE:GREGORIAN
BEGIN:VTIMEZONE
TZID:Europe/Zurich
BEGIN:DAYLIGHT
TZOFFSETFROM:+0100
RRULE:FREQ=YEARLY;BYMONTH=3;BYDAY=-1SU
DTSTART:19810329T020000
TZNAME:UTC+2
TZOFFSETTO:+0200
END:DAYLIGHT
BEGIN:STANDARD
TZOFFSETFROM:+0200
RRULE:FREQ=YEARLY;BYMONTH=10;BYDAY=-1SU
DTSTART:19961027T030000
TZNAME:UTC+1
TZOFFSETTO:+0100
END:STANDARD
END:VTIMEZONE
BEGIN:VEVENT
UID:6AXmdAPUiBeizizpCqXnpdwy3XBaV7D4qVLSiww5.culturoscope.ch
DTSTART;TZID=Europe/Zurich:20200520T120000
DTEND;TZID=Europe/Zurich:20200531T180000
TRANSP:OPAQUE
X-APPLE-TRAVEL-ADVISORY-BEHAVIOR:AUTOMATIC
SUMMARY:Prolongation de l’exposition Sir Güdel "Voilà" ainsi que visites guidées
LOCATION:Galerie du Griffon Rue de la Justice 20 2000 Neuchâtel
DTSTAMP:20260420T144340Z
SEQUENCE:0
END:VEVENT
END:VCALENDAR
