BEGIN:VCALENDAR
VERSION:2.0
PRODID:-//CCRD//1.0//FR
CALSCALE:GREGORIAN
BEGIN:VTIMEZONE
TZID:Europe/Zurich
BEGIN:DAYLIGHT
TZOFFSETFROM:+0100
RRULE:FREQ=YEARLY;BYMONTH=3;BYDAY=-1SU
DTSTART:19810329T020000
TZNAME:UTC+2
TZOFFSETTO:+0200
END:DAYLIGHT
BEGIN:STANDARD
TZOFFSETFROM:+0200
RRULE:FREQ=YEARLY;BYMONTH=10;BYDAY=-1SU
DTSTART:19961027T030000
TZNAME:UTC+1
TZOFFSETTO:+0100
END:STANDARD
END:VTIMEZONE
BEGIN:VEVENT
UID:ZHMLcWRC2aXCJcNvh7LKjCW9Ei1uWGJVMwYYekBp.culturoscope.ch
DTSTART;TZID=Europe/Zurich:20200520T140000
DTEND;TZID=Europe/Zurich:20200920T180000
TRANSP:OPAQUE
X-APPLE-TRAVEL-ADVISORY-BEHAVIOR:AUTOMATIC
SUMMARY:Exposition temporaire : "Histoires d’Os"
LOCATION:Musée de St-Imier Musée de Saint-Imier - Rue Saint-Martin 8 2610 Saint-Imier
DTSTAMP:20260425T222302Z
SEQUENCE:0
END:VEVENT
END:VCALENDAR
