BEGIN:VCALENDAR
VERSION:2.0
PRODID:-//CCRD//1.0//FR
CALSCALE:GREGORIAN
BEGIN:VTIMEZONE
TZID:Europe/Zurich
BEGIN:DAYLIGHT
TZOFFSETFROM:+0100
RRULE:FREQ=YEARLY;BYMONTH=3;BYDAY=-1SU
DTSTART:19810329T020000
TZNAME:UTC+2
TZOFFSETTO:+0200
END:DAYLIGHT
BEGIN:STANDARD
TZOFFSETFROM:+0200
RRULE:FREQ=YEARLY;BYMONTH=10;BYDAY=-1SU
DTSTART:19961027T030000
TZNAME:UTC+1
TZOFFSETTO:+0100
END:STANDARD
END:VTIMEZONE
BEGIN:VEVENT
UID:No0iGDIweDyC1yRBkCbEph4uZ9K8Jjq2PQvo6Lz0.culturoscope.ch
DTSTART;TZID=Europe/Zurich:20260424T190000
DTEND;TZID=Europe/Zurich:20260424T220000
TRANSP:OPAQUE
X-APPLE-TRAVEL-ADVISORY-BEHAVIOR:AUTOMATIC
SUMMARY:EXPO GRAFFITI ART
LOCATION:EMOH LEEF Rue du Prébarreau 10 2000 Neuchâtel
DTSTAMP:20260424T180828Z
SEQUENCE:0
END:VEVENT
END:VCALENDAR
