BEGIN:VCALENDAR
VERSION:2.0
PRODID:-//CCRD//1.0//FR
CALSCALE:GREGORIAN
BEGIN:VTIMEZONE
TZID:Europe/Zurich
BEGIN:DAYLIGHT
TZOFFSETFROM:+0100
RRULE:FREQ=YEARLY;BYMONTH=3;BYDAY=-1SU
DTSTART:19810329T020000
TZNAME:UTC+2
TZOFFSETTO:+0200
END:DAYLIGHT
BEGIN:STANDARD
TZOFFSETFROM:+0200
RRULE:FREQ=YEARLY;BYMONTH=10;BYDAY=-1SU
DTSTART:19961027T030000
TZNAME:UTC+1
TZOFFSETTO:+0100
END:STANDARD
END:VTIMEZONE
BEGIN:VEVENT
UID:xACmkgQau9Gr9jLVFB6d8OXcJ4jag5B3GGqN9ESc.culturoscope.ch
DTSTART;TZID=Europe/Zurich:20260423T180000
DTEND;TZID=Europe/Zurich:20260517T180000
TRANSP:OPAQUE
X-APPLE-TRAVEL-ADVISORY-BEHAVIOR:AUTOMATIC
SUMMARY:Exposition de Béatrice Zumwald
LOCATION:Music Art Palace (MAP) Grand’rue 14 2056 Dombresson
DTSTAMP:20260422T225651Z
SEQUENCE:0
END:VEVENT
END:VCALENDAR
