BEGIN:VCALENDAR
VERSION:2.0
PRODID:-//CCRD//1.0//FR
CALSCALE:GREGORIAN
BEGIN:VTIMEZONE
TZID:Europe/Zurich
BEGIN:DAYLIGHT
TZOFFSETFROM:+0100
RRULE:FREQ=YEARLY;BYMONTH=3;BYDAY=-1SU
DTSTART:19810329T020000
TZNAME:UTC+2
TZOFFSETTO:+0200
END:DAYLIGHT
BEGIN:STANDARD
TZOFFSETFROM:+0200
RRULE:FREQ=YEARLY;BYMONTH=10;BYDAY=-1SU
DTSTART:19961027T030000
TZNAME:UTC+1
TZOFFSETTO:+0100
END:STANDARD
END:VTIMEZONE
BEGIN:VEVENT
UID:0rYy17jqzaVYe2HebsXTtSoU4RzcyqdMYkVr4b7E.culturoscope.ch
DTSTART;TZID=Europe/Zurich:20260501T000000
DTEND;TZID=Europe/Zurich:20260524T000000
TRANSP:OPAQUE
X-APPLE-TRAVEL-ADVISORY-BEHAVIOR:AUTOMATIC
SUMMARY:Au Joli Mois de Mai
LOCATION:La Voirie Rue des Fontaines 1 2502 Bienne
DTSTAMP:20260423T084238Z
SEQUENCE:0
END:VEVENT
END:VCALENDAR
