BEGIN:VCALENDAR
VERSION:2.0
PRODID:-//CCRD//1.0//FR
CALSCALE:GREGORIAN
BEGIN:VTIMEZONE
TZID:Europe/Zurich
BEGIN:DAYLIGHT
TZOFFSETFROM:+0100
RRULE:FREQ=YEARLY;BYMONTH=3;BYDAY=-1SU
DTSTART:19810329T020000
TZNAME:UTC+2
TZOFFSETTO:+0200
END:DAYLIGHT
BEGIN:STANDARD
TZOFFSETFROM:+0200
RRULE:FREQ=YEARLY;BYMONTH=10;BYDAY=-1SU
DTSTART:19961027T030000
TZNAME:UTC+1
TZOFFSETTO:+0100
END:STANDARD
END:VTIMEZONE
BEGIN:VEVENT
UID:bX4DO2od1X2Lmrsj03sTqp6U0nNLxZuzX8OxYnDb.culturoscope.ch
DTSTART;TZID=Europe/Zurich:20260501T200000
DTEND;TZID=Europe/Zurich:20260501T210000
TRANSP:OPAQUE
X-APPLE-TRAVEL-ADVISORY-BEHAVIOR:AUTOMATIC
SUMMARY:First Friday : Concert de musique de chambre
LOCATION:à Nebia poche Rue Haute 1 2502 Biel/Bienne
DTSTAMP:20260420T033524Z
SEQUENCE:0
END:VEVENT
END:VCALENDAR
