BEGIN:VCALENDAR
VERSION:2.0
PRODID:-//CCRD//1.0//FR
CALSCALE:GREGORIAN
BEGIN:VTIMEZONE
TZID:Europe/Zurich
BEGIN:DAYLIGHT
TZOFFSETFROM:+0100
RRULE:FREQ=YEARLY;BYMONTH=3;BYDAY=-1SU
DTSTART:19810329T020000
TZNAME:UTC+2
TZOFFSETTO:+0200
END:DAYLIGHT
BEGIN:STANDARD
TZOFFSETFROM:+0200
RRULE:FREQ=YEARLY;BYMONTH=10;BYDAY=-1SU
DTSTART:19961027T030000
TZNAME:UTC+1
TZOFFSETTO:+0100
END:STANDARD
END:VTIMEZONE
BEGIN:VEVENT
UID:sJr0qGR8B8e8AWIBqHlB6WvB5fuN58G8fQrvQmnJ.culturoscope.ch
DTSTART;TZID=Europe/Zurich:20260524T090000
DTEND;TZID=Europe/Zurich:20260524T170000
TRANSP:OPAQUE
X-APPLE-TRAVEL-ADVISORY-BEHAVIOR:AUTOMATIC
SUMMARY:FÊTE DE LA NATURE, MARCHÉ DES PLANTONS ET JOUR DES MUSÉES
LOCATION:Muzoo Replat du Dahu 1 2300 La Chaux-de-Fonds
DTSTAMP:20260422T001744Z
SEQUENCE:0
END:VEVENT
END:VCALENDAR
