BEGIN:VCALENDAR
VERSION:2.0
PRODID:-//CCRD//1.0//FR
CALSCALE:GREGORIAN
BEGIN:VTIMEZONE
TZID:Europe/Zurich
BEGIN:DAYLIGHT
TZOFFSETFROM:+0100
RRULE:FREQ=YEARLY;BYMONTH=3;BYDAY=-1SU
DTSTART:19810329T020000
TZNAME:UTC+2
TZOFFSETTO:+0200
END:DAYLIGHT
BEGIN:STANDARD
TZOFFSETFROM:+0200
RRULE:FREQ=YEARLY;BYMONTH=10;BYDAY=-1SU
DTSTART:19961027T030000
TZNAME:UTC+1
TZOFFSETTO:+0100
END:STANDARD
END:VTIMEZONE
BEGIN:VEVENT
UID:BrntRNWvVkzwm38PMWtY1a6z5IbpEe4XKkPz7cj3.culturoscope.ch
DTSTART;TZID=Europe/Zurich:20260506T150000
DTEND;TZID=Europe/Zurich:20260506T163000
TRANSP:OPAQUE
X-APPLE-TRAVEL-ADVISORY-BEHAVIOR:AUTOMATIC
SUMMARY:Ta première gravure. Atelier enfants. COMPLET !
LOCATION:Musée d'art et d'histoire Esplanade Léopold-Robert 1 2000 Neuchâtel
DTSTAMP:20260421T051749Z
SEQUENCE:0
END:VEVENT
END:VCALENDAR
