BEGIN:VCALENDAR
VERSION:2.0
PRODID:-//CCRD//1.0//FR
CALSCALE:GREGORIAN
BEGIN:VTIMEZONE
TZID:Europe/Zurich
BEGIN:DAYLIGHT
TZOFFSETFROM:+0100
RRULE:FREQ=YEARLY;BYMONTH=3;BYDAY=-1SU
DTSTART:19810329T020000
TZNAME:UTC+2
TZOFFSETTO:+0200
END:DAYLIGHT
BEGIN:STANDARD
TZOFFSETFROM:+0200
RRULE:FREQ=YEARLY;BYMONTH=10;BYDAY=-1SU
DTSTART:19961027T030000
TZNAME:UTC+1
TZOFFSETTO:+0100
END:STANDARD
END:VTIMEZONE
BEGIN:VEVENT
UID:um3Rm75MDWhilEwSbuSlW3puQnzx6jzvz6vz1fVp.culturoscope.ch
DTSTART;TZID=Europe/Zurich:20260320T100000
DTEND;TZID=Europe/Zurich:20260516T170000
TRANSP:OPAQUE
X-APPLE-TRAVEL-ADVISORY-BEHAVIOR:AUTOMATIC
SUMMARY:Archéologie de l’esclavage colonial
LOCATION:Le Laténium | Parc et musée d'archéologie de Neuchâtel Espace Paul Vouga 2068 Hauterive
DTSTAMP:20260419T233516Z
SEQUENCE:0
END:VEVENT
END:VCALENDAR
