BEGIN:VCALENDAR
VERSION:2.0
PRODID:-//CCRD//1.0//FR
CALSCALE:GREGORIAN
BEGIN:VTIMEZONE
TZID:Europe/Zurich
BEGIN:DAYLIGHT
TZOFFSETFROM:+0100
RRULE:FREQ=YEARLY;BYMONTH=3;BYDAY=-1SU
DTSTART:19810329T020000
TZNAME:UTC+2
TZOFFSETTO:+0200
END:DAYLIGHT
BEGIN:STANDARD
TZOFFSETFROM:+0200
RRULE:FREQ=YEARLY;BYMONTH=10;BYDAY=-1SU
DTSTART:19961027T030000
TZNAME:UTC+1
TZOFFSETTO:+0100
END:STANDARD
END:VTIMEZONE
BEGIN:VEVENT
UID:0u2waqehQCb9muypCSne7fR2hDyGJh7jgfJ8sqMN.culturoscope.ch
DTSTART;TZID=Europe/Zurich:20260314T120000
DTEND;TZID=Europe/Zurich:20260328T120000
TRANSP:OPAQUE
X-APPLE-TRAVEL-ADVISORY-BEHAVIOR:AUTOMATIC
SUMMARY:La peinture qui danse avec Arno Louis et Jean20 Huguenin
LOCATION:Galerie du Griffon Rue de la Justice 20 2000 Neuchâtel
DTSTAMP:20260419T221447Z
SEQUENCE:0
END:VEVENT
END:VCALENDAR
