BEGIN:VCALENDAR
VERSION:2.0
PRODID:-//CCRD//1.0//FR
CALSCALE:GREGORIAN
BEGIN:VTIMEZONE
TZID:Europe/Zurich
BEGIN:DAYLIGHT
TZOFFSETFROM:+0100
RRULE:FREQ=YEARLY;BYMONTH=3;BYDAY=-1SU
DTSTART:19810329T020000
TZNAME:UTC+2
TZOFFSETTO:+0200
END:DAYLIGHT
BEGIN:STANDARD
TZOFFSETFROM:+0200
RRULE:FREQ=YEARLY;BYMONTH=10;BYDAY=-1SU
DTSTART:19961027T030000
TZNAME:UTC+1
TZOFFSETTO:+0100
END:STANDARD
END:VTIMEZONE
BEGIN:VEVENT
UID:mqKL2vweVo7Ymf8m2hMLPzjnHw1eZpe3OfY0c7BS.culturoscope.ch
DTSTART;TZID=Europe/Zurich:20260305T181500
DTEND;TZID=Europe/Zurich:20261003T160000
TRANSP:OPAQUE
X-APPLE-TRAVEL-ADVISORY-BEHAVIOR:AUTOMATIC
SUMMARY:Marionnettes en vedette
LOCATION:Bibliothèque de la Ville Rue du Progrès 33 2300 La Chaux-de-Fonds
DTSTAMP:20260420T053622Z
SEQUENCE:0
END:VEVENT
END:VCALENDAR
