BEGIN:VCALENDAR
VERSION:2.0
PRODID:-//CCRD//1.0//FR
CALSCALE:GREGORIAN
BEGIN:VTIMEZONE
TZID:Europe/Zurich
BEGIN:DAYLIGHT
TZOFFSETFROM:+0100
RRULE:FREQ=YEARLY;BYMONTH=3;BYDAY=-1SU
DTSTART:19810329T020000
TZNAME:UTC+2
TZOFFSETTO:+0200
END:DAYLIGHT
BEGIN:STANDARD
TZOFFSETFROM:+0200
RRULE:FREQ=YEARLY;BYMONTH=10;BYDAY=-1SU
DTSTART:19961027T030000
TZNAME:UTC+1
TZOFFSETTO:+0100
END:STANDARD
END:VTIMEZONE
BEGIN:VEVENT
UID:ByA7Td7GXC9lf5qtJtg4JPoaTUWVptxwhdCrsVGV.culturoscope.ch
DTSTART;TZID=Europe/Zurich:20250124T180000
DTEND;TZID=Europe/Zurich:20250202T170000
TRANSP:OPAQUE
X-APPLE-TRAVEL-ADVISORY-BEHAVIOR:AUTOMATIC
SUMMARY:Michèle FAVRE | Expo du 24 janvier au 02 février 2025
LOCATION:Galerie de l’Evole Rue de l’Evole 5 2000 Neuchâtel
DTSTAMP:20260421T014142Z
SEQUENCE:0
END:VEVENT
END:VCALENDAR
