BEGIN:VCALENDAR
VERSION:2.0
PRODID:-//CCRD//1.0//FR
CALSCALE:GREGORIAN
BEGIN:VTIMEZONE
TZID:Europe/Zurich
BEGIN:DAYLIGHT
TZOFFSETFROM:+0100
RRULE:FREQ=YEARLY;BYMONTH=3;BYDAY=-1SU
DTSTART:19810329T020000
TZNAME:UTC+2
TZOFFSETTO:+0200
END:DAYLIGHT
BEGIN:STANDARD
TZOFFSETFROM:+0200
RRULE:FREQ=YEARLY;BYMONTH=10;BYDAY=-1SU
DTSTART:19961027T030000
TZNAME:UTC+1
TZOFFSETTO:+0100
END:STANDARD
END:VTIMEZONE
BEGIN:VEVENT
UID:yg6cAqKWVf46N6hyPLTueoREhcbixcLU8tGU9HVK.culturoscope.ch
DTSTART;TZID=Europe/Zurich:20240628T120000
DTEND;TZID=Europe/Zurich:20240908T120000
TRANSP:OPAQUE
X-APPLE-TRAVEL-ADVISORY-BEHAVIOR:AUTOMATIC
SUMMARY:Le Feu Intérieur, Augustin Rebetez
LOCATION:Espace Courant d’Art 103, La Fauceillure  2906  Chevenez
DTSTAMP:20260420T010352Z
SEQUENCE:0
END:VEVENT
END:VCALENDAR
