BEGIN:VCALENDAR
VERSION:2.0
PRODID:-//CCRD//1.0//FR
CALSCALE:GREGORIAN
BEGIN:VTIMEZONE
TZID:Europe/Zurich
BEGIN:DAYLIGHT
TZOFFSETFROM:+0100
RRULE:FREQ=YEARLY;BYMONTH=3;BYDAY=-1SU
DTSTART:19810329T020000
TZNAME:UTC+2
TZOFFSETTO:+0200
END:DAYLIGHT
BEGIN:STANDARD
TZOFFSETFROM:+0200
RRULE:FREQ=YEARLY;BYMONTH=10;BYDAY=-1SU
DTSTART:19961027T030000
TZNAME:UTC+1
TZOFFSETTO:+0100
END:STANDARD
END:VTIMEZONE
BEGIN:VEVENT
UID:oeRcHsx6cQLUePxTuKhEHW1NfecN4nljIrqAizmA.culturoscope.ch
DTSTART;TZID=Europe/Zurich:20240914T120000
DTEND;TZID=Europe/Zurich:20241013T120000
TRANSP:OPAQUE
X-APPLE-TRAVEL-ADVISORY-BEHAVIOR:AUTOMATIC
SUMMARY:50 ans du Photo-Club Courroux
LOCATION:Centre du village Place des Mouleurs 1 2822 Courroux 
DTSTAMP:20260419T215534Z
SEQUENCE:0
END:VEVENT
END:VCALENDAR
