BEGIN:VCALENDAR
VERSION:2.0
PRODID:-//CCRD//1.0//FR
CALSCALE:GREGORIAN
BEGIN:VTIMEZONE
TZID:Europe/Zurich
BEGIN:DAYLIGHT
TZOFFSETFROM:+0100
RRULE:FREQ=YEARLY;BYMONTH=3;BYDAY=-1SU
DTSTART:19810329T020000
TZNAME:UTC+2
TZOFFSETTO:+0200
END:DAYLIGHT
BEGIN:STANDARD
TZOFFSETFROM:+0200
RRULE:FREQ=YEARLY;BYMONTH=10;BYDAY=-1SU
DTSTART:19961027T030000
TZNAME:UTC+1
TZOFFSETTO:+0100
END:STANDARD
END:VTIMEZONE
BEGIN:VEVENT
UID:DkUezC23EB7EfmPnm3x1Yg4QvzLHaEqArnlJ6w2b.culturoscope.ch
DTSTART;TZID=Europe/Zurich:20240606T180000
DTEND;TZID=Europe/Zurich:20240622T180000
TRANSP:OPAQUE
X-APPLE-TRAVEL-ADVISORY-BEHAVIOR:AUTOMATIC
SUMMARY:TOP / Temple Of Pigs COCHON RODEO Christophe Lambert / Monsignore Dies
LOCATION:Public Art Espace JURAPLATZ Juravorstadt 2A 2502 Biel/Bienne 
DTSTAMP:20260425T143724Z
SEQUENCE:0
END:VEVENT
END:VCALENDAR
