BEGIN:VCALENDAR
VERSION:2.0
PRODID:-//CCRD//1.0//FR
CALSCALE:GREGORIAN
BEGIN:VTIMEZONE
TZID:Europe/Zurich
BEGIN:DAYLIGHT
TZOFFSETFROM:+0100
RRULE:FREQ=YEARLY;BYMONTH=3;BYDAY=-1SU
DTSTART:19810329T020000
TZNAME:UTC+2
TZOFFSETTO:+0200
END:DAYLIGHT
BEGIN:STANDARD
TZOFFSETFROM:+0200
RRULE:FREQ=YEARLY;BYMONTH=10;BYDAY=-1SU
DTSTART:19961027T030000
TZNAME:UTC+1
TZOFFSETTO:+0100
END:STANDARD
END:VTIMEZONE
BEGIN:VEVENT
UID:dcCIUKKk8OwW9yyHvPkankuNCRVj3X3Y526o9kbl.culturoscope.ch
DTSTART;TZID=Europe/Zurich:20220409T133000
DTEND;TZID=Europe/Zurich:20220528T173000
TRANSP:OPAQUE
X-APPLE-TRAVEL-ADVISORY-BEHAVIOR:AUTOMATIC
SUMMARY:Panart &#8211; L&rsquo;art dans la vie
LOCATION:Château et musée de Valangin Bourg 24 2042 Valangin
DTSTAMP:20260419T150230Z
SEQUENCE:0
END:VEVENT
END:VCALENDAR
